BEGIN:VCALENDAR
VERSION:2.0
PRODID:icalendar-ruby
CALSCALE:GREGORIAN
METHOD:PUBLISH
BEGIN:VEVENT
DTSTAMP:20260423T161814Z
UID:220-1382387@firstuunash.org
DTSTART:20260719T163000Z
DTEND:20260719T183000Z
CLASS:PUBLIC
CREATED:20260408T130409
DESCRIPTION:This beginner-friendly Intro to Tarot Reading class provides a
  foundational understanding of the 78-card deck\, focusing on building int
 uition\, interpreting Major and Minor Arcana symbolism\, and practicing si
 mple spreads. Participants learn to use tarot for daily guidance\, persona
 l insight\, and self-reflection in a supportive environment. \n\nClass De
 scription &amp\; Highlights\n\nDeck Familiarization: Learn the structure 
 of the tarot deck\, including the 22 Major Arcana (life themes) and 56 Min
 or Arcana (daily life).\nIntuitive Reading: Develop your inner voice to i
 nterpret imagery rather than just memorizing definitions.\nKey Techniques:
  Instruction on shuffling\, asking open-ended questions\, and performing 
 simple spreads (e.g.\, one-card or three-card spreads).\nHistory &amp\; Sy
 mbolism: Brief overview of the history of tarot and the rich symbolism wi
 thin the cards.\n
LAST-MODIFIED:20260408T130409
LOCATION:Fireside Room
SUMMARY:Intro to Tarot Reading
URL;VALUE=URI:https://firstuunash.org/events/intro-to-tarot-reading/2026-07
 -19
ATTACH;FILENAME=Intro-to-Tarot-Reading.jpg;FMTTYPE=image/jpeg:https://dq5pw
 pg1q8ru0.cloudfront.net/2026/04/08/18/04/09/a07ae9ff-9234-44d9-81bf-9ab64d
 6f6103/Intro-to-Tarot-Reading.jpg
END:VEVENT
END:VCALENDAR
